BEGIN:VCALENDAR
VERSION:2.0
PRODID:-//Oklahoma Microscopy Society - ECPv6.15.20//NONSGML v1.0//EN
CALSCALE:GREGORIAN
METHOD:PUBLISH
X-WR-CALNAME:Oklahoma Microscopy Society
X-ORIGINAL-URL:https://okmicroscopy.org
X-WR-CALDESC:Events for Oklahoma Microscopy Society
REFRESH-INTERVAL;VALUE=DURATION:PT1H
X-Robots-Tag:noindex
X-PUBLISHED-TTL:PT1H
BEGIN:VTIMEZONE
TZID:UTC
BEGIN:STANDARD
TZOFFSETFROM:+0000
TZOFFSETTO:+0000
TZNAME:UTC
DTSTART:20250101T000000
END:STANDARD
END:VTIMEZONE
BEGIN:VEVENT
DTSTART;VALUE=DATE:20260501
DTEND;VALUE=DATE:20260502
DTSTAMP:20260423T122941
CREATED:20260219T162734Z
LAST-MODIFIED:20260220T153322Z
UID:1183-1777593600-1777679999@okmicroscopy.org
SUMMARY:2026 OMS Spring Meeting Registration
DESCRIPTION:We are happy to organize the 2026 OMS Spring meeting which will be hold on Friday\, May 1st\, 2026 at the National Weather Center located on the University of Oklahoma\, Norman research campus. Our spring meeting is the largest gathering of microscopy professionals from both academic and industry in the Great State of Oklahoma. \nPlease register above and then purchase the appropriate event ticket below. We look forward to meeting all of you May!
URL:https://okmicroscopy.org/event/2026-oms-spring-meeting-registration/
LOCATION:National Weather Center\, 120 David L Boren Blvd\, Norman\, OK\, 73072\, United States
ORGANIZER;CN="Julian E.C. Sabisch":MAILTO:jsabisch@ou.edu
END:VEVENT
END:VCALENDAR